Workbook
Name CommercialList: 'Lookup Lists'!$B$2:$B$80
Name Debt_Charges_Summary: '---Budget Form---'!$A$53
Name Debt_Servicing_Ratio__DSR: '---Budget Form---'!$B$425
Name Expenditures: '---Budget Form---'!$A$83
Name FeeList: 'Lookup Lists'!$E$2:$E$30
Name ResidentialList: 'Lookup Lists'!$A$2:$A$5
Name Revenues: '---Budget Form---'!$A$237
Name Summary_of_The_Municipal_Budget_Submission_Form: '---Budget Form---'!$B$466
Name VacantList: 'Lookup Lists'!#REF!

Sheet General Instructions
A1: MUNICIPAL BUDGET WORKBOOK INSTRUCTIONS
A2: This workbook has been designed to assist municipalities in preparing and submitting their annual budget. Automated calculations, drop-down menus, and linked schedules reduce manual data entry and improve accuracy. If you have questions or are unsure how to complete any section of the workbook, please reach out to our team for assistance before submitting your budget.
A4: GENERAL WORKBOOK INFORMATION
A5: ·Enter information only in designated input cells.
A6: ·Do not overwrite cells containing formulas.
A7: ·Totals and calculations are performed automatically.
A8: ·Information entered in one area of the workbook may automatically update related sections.
A9: ·Gray cells contain formulas or automatically generated information and will populate based on information entered elsewhere in the workbook.
A11: REVENUE WORKSHEETS
A12: ·Complete the new Residential Property Tax, Commercial Property Tax, Business Tax, and Assessments, Levies, Fees and Charges worksheets as applicable.
A13: ·Regarding 2.3 - fire revenues from outside your municipal boundardy is intended to refected contractal services to another municipality.
A14: ·Select categories from drop-down lists where available.
... A39: ·Most numbers can be entered without dollar signs or commas.

Sheet ---Budget Form---
B10: Department of Municipal and Community Affairs Government of Newfoundland and Labrador Calendar Year: 2027
A14: The estimates reported in this submission were approved by the Council of the Municipality of
B17: Name of Municipality
B19: at a meeting held on the | E19: day of
D20: Day | F20: Month | H20: Year
E24: Signature of Mayor
E28: Signature of Clerk/Manager
C32: TABLE OF CONTENTS
C35: Instructions-------------------------------------------------------------------------------- | G35: General Instructions
C36: Debt Charges Summary------------------------------------------------------------------- | G36: Page 2
C37: Expenditures-------------------------------------------------------------------------------- | G37: Page 3
C38: Revenues------------------------------------------------------------------------------------ | G38: Page 7
C39: Debt Servicing Ratio-------------------------------------------------------------------------- | G39: Page 12
C40: Summary of the Municipal Budget Submission Form--------------------------------- | G40: Page 13
C47: Deadline for Council Adoption: December 1, 2026
C48: Deadline for Submission: December 31, 2026
A53: Debt Charges Summary
B55: Loan Number | C55: Name of Creditor | D55: Purpose (Water, Roads; etc.) | E55: Original Principal | F55: Maturity Date (dd-month-yyyy) | G55: Council Annual Payment | H55: Provincial Annual Payment
B74: Totals | G74: =IF(SUM(G56:G73)=0,"",SUM(G56:G73)) | H74: =IF(SUM(H56:H73)=0,"",SUM(H56:H73))
B76: BEFORE CONTINUING:
C78: 1. Transcribe BOTH the above totals for Council Annual Payment and Provincial Annual Payment to the appropriate boxes in section “7.1 Debt Charges From All Sources” of “7.0 FISCAL SERVICES”.
C80: 2. Transcribe the above total of “Provincial Annual Payment” to sub-section 4.1.2 “Provincial Portion of Debt Charges” found in the section “4.1 Provincial Government Grants and Subsidies”.
A83: Expenditures
B84: 1.0 GENERAL GOVERNMENT
B86: 1.1 Council
B87: 1.1.1. Remuneration for Councillors ----------------------------------------------------------------------------------------------------------------------
B88: 1.1.2. Travel ----------------------------------------------------------------------------------------------------------------------
B89: Total 1.1 Council ------------------------------------------------------------------------------------------------------------------------------------------------------- | H89: =IF(G88+G87=0,"",G88+G87)
B91: 1.2 General Administration
B92: 1.2.1. Salaries ----------------------------------------------------------------------------------------------------------------------
B93: 1.2.2. Employee Benefits -------------------------------------------------------------------------------------------------------------------------------------------------------
B94: 1.2.3. Payroll Burden -------------------------------------------------------------------------------------------------------------------------------------------------------
B95: 1.2.4. Travel -------------------------------------------------------------------------------------------------------------------------------------------------------
B96: 1.2.5. Supplies -------------------------------------------------------------------------------------------------------------------------------------------------------
B97: 1.2.6. Purchased Services (other than Insurance) -------------------------------------------------------------------------------------------------------------------------------------------------------
B98: 1.2.7. Professional Services -------------------------------------------------------------------------------------------------------------------------------------------------------
B99: 1.2.8. Insurance -------------------------------------------------------------------------------------------------------------------------------------------------------
B100: Total 1.2 General Administration------------------------------------------------------------------------------------------------------------------------------------------------------- | H100: =IF(G99+G98+G97+G96+G95+G94+G93+G92=0,"",G99+G98+G97+G96+G95+G94+G93+G92)
B102: 1.3 Municipal Elections & By-elections-----------------------------------------------------------------------------------------------------------------------------------------------------
B104: 1.4 Property Assessment Services-------------------------------------------------------------------------------------------------------------------------------------------------------
...

Sheet Residential Property Tax
A1: Municipal Revenue Sources | D1: Residential Assessment and Taxation Inputs (1.1.1 and 1.1.3)
A2: Revenue Group | B2: Residential Revenue Category | C2: Custom Category (if not listed) | D2: Number of Properties | E2: Total Assessed Value ($) | F2: Percent (per $1,000 Assessment) (Example 5.5) | G2: Total Percent Tax ($) | H2: Base Fee ($) | I2: Estimated Revenue ($)
G3: =Table1[[#This Row],[Percent (per $1,000 Assessment) (Example 5.5)]]*Table1[[#This Row],[Total Assessed Value ($)]]/1000 -> 0 | I3: =Table1[[#This Row],[Number of Properties]]*Table1[[#This Row],[Base Fee ($)]]+(Table1[[#This Row],[Total Assessed Value ($)]]*Table1[[#This Row],[Percent (per $1,000 Assessment) (Example 5.5)]]/1000) -> 0
G4: =Table1[[#This Row],[Percent (per $1,000 Assessment) (Example 5.5)]]*Table1[[#This Row],[Total Assessed Value ($)]]/1000 -> 0 | I4: =Table1[[#This Row],[Number of Properties]]*Table1[[#This Row],[Base Fee ($)]]+(Table1[[#This Row],[Total Assessed Value ($)]]*Table1[[#This Row],[Percent (per $1,000 Assessment) (Example 5.5)]]/1000) -> 0
G5: =Table1[[#This Row],[Percent (per $1,000 Assessment) (Example 5.5)]]*Table1[[#This Row],[Total Assessed Value ($)]]/1000 -> 0 | I5: =Table1[[#This Row],[Number of Properties]]*Table1[[#This Row],[Base Fee ($)]]+(Table1[[#This Row],[Total Assessed Value ($)]]*Table1[[#This Row],[Percent (per $1,000 Assessment) (Example 5.5)]]/1000) -> 0
G6: =Table1[[#This Row],[Percent (per $1,000 Assessment) (Example 5.5)]]*Table1[[#This Row],[Total Assessed Value ($)]]/1000 -> 0 | I6: =Table1[[#This Row],[Number of Properties]]*Table1[[#This Row],[Base Fee ($)]]+(Table1[[#This Row],[Total Assessed Value ($)]]*Table1[[#This Row],[Percent (per $1,000 Assessment) (Example 5.5)]]/1000) -> 0
G7: =Table1[[#This Row],[Percent (per $1,000 Assessment) (Example 5.5)]]*Table1[[#This Row],[Total Assessed Value ($)]]/1000 -> 0 | I7: =Table1[[#This Row],[Number of Properties]]*Table1[[#This Row],[Base Fee ($)]]+(Table1[[#This Row],[Total Assessed Value ($)]]*Table1[[#This Row],[Percent (per $1,000 Assessment) (Example 5.5)]]/1000) -> 0
G8: =Table1[[#This Row],[Percent (per $1,000 Assessment) (Example 5.5)]]*Table1[[#This Row],[Total Assessed Value ($)]]/1000 -> 0 | I8: =Table1[[#This Row],[Number of Properties]]*Table1[[#This Row],[Base Fee ($)]]+(Table1[[#This Row],[Total Assessed Value ($)]]*Table1[[#This Row],[Percent (per $1,000 Assessment) (Example 5.5)]]/1000) -> 0
G9: =Table1[[#This Row],[Percent (per $1,000 Assessment) (Example 5.5)]]*Table1[[#This Row],[Total Assessed Value ($)]]/1000 -> 0 | I9: =Table1[[#This Row],[Number of Properties]]*Table1[[#This Row],[Base Fee ($)]]+(Table1[[#This Row],[Total Assessed Value ($)]]*Table1[[#This Row],[Percent (per $1,000 Assessment) (Example 5.5)]]/1000) -> 0
G10: =Table1[[#This Row],[Percent (per $1,000 Assessment) (Example 5.5)]]*Table1[[#This Row],[Total Assessed Value ($)]]/1000 -> 0 | I10: =Table1[[#This Row],[Number of Properties]]*Table1[[#This Row],[Base Fee ($)]]+(Table1[[#This Row],[Total Assessed Value ($)]]*Table1[[#This Row],[Percent (per $1,000 Assessment) (Example 5.5)]]/1000) -> 0
G11: =Table1[[#This Row],[Percent (per $1,000 Assessment) (Example 5.5)]]*Table1[[#This Row],[Total Assessed Value ($)]]/1000 -> 0 | I11: =Table1[[#This Row],[Number of Properties]]*Table1[[#This Row],[Base Fee ($)]]+(Table1[[#This Row],[Total Assessed Value ($)]]*Table1[[#This Row],[Percent (per $1,000 Assessment) (Example 5.5)]]/1000) -> 0
G12: =Table1[[#This Row],[Percent (per $1,000 Assessment) (Example 5.5)]]*Table1[[#This Row],[Total Assessed Value ($)]]/1000 -> 0 | I12: =Table1[[#This Row],[Number of Properties]]*Table1[[#This Row],[Base Fee ($)]]+(Table1[[#This Row],[Total Assessed Value ($)]]*Table1[[#This Row],[Percent (per $1,000 Assessment) (Example 5.5)]]/1000) -> 0
G13: =Table1[[#This Row],[Percent (per $1,000 Assessment) (Example 5.5)]]*Table1[[#This Row],[Total Assessed Value ($)]]/1000 -> 0 | I13: =Table1[[#This Row],[Number of Properties]]*Table1[[#This Row],[Base Fee ($)]]+(Table1[[#This Row],[Total Assessed Value ($)]]*Table1[[#This Row],[Percent (per $1,000 Assessment) (Example 5.5)]]/1000) -> 0
G14: =Table1[[#This Row],[Percent (per $1,000 Assessment) (Example 5.5)]]*Table1[[#This Row],[Total Assessed Value ($)]]/1000 -> 0 | I14: =Table1[[#This Row],[Number of Properties]]*Table1[[#This Row],[Base Fee ($)]]+(Table1[[#This Row],[Total Assessed Value ($)]]*Table1[[#This Row],[Percent (per $1,000 Assessment) (Example 5.5)]]/1000) -> 0
... G21: =Table1[[#This Row],[Percent (per $1,000 Assessment) (Example 5.5)]]*Table1[[#This Row],[Total Assessed Value ($)]]/1000 -> 0 | I21: =Table1[[#This Row],[Number of Properties]]*Table1[[#This Row],[Base Fee ($)]]+(Table1[[#This Row],[Total Assessed Value ($)]]*Table1[[#This Row],[Percent (per $1,000 Assessment) (Example 5.5)]]/1000) -> 0

Sheet Commercial Property Tax
A1: Municipal Revenue Sources | D1: Assessment and Fee inputs (1.1.2 and 1.1.3)
A2: Revenue Group | B2: Commercial/Non-Residential Revenue Category | C2: Custom Category (if not listed) | D2: Number of Properties | E2: Total Assessed Value ($) | F2: Percent (per $1,000 Assessment) (Example 5.5) | G2: Total Percent Tax ($) | H2: Base Fee ($) | I2: Estimated Revenue ($)
G3: =Table14[[#This Row],[Total Assessed Value ($)]]*Table14[[#This Row],[Percent (per $1,000 Assessment) (Example 5.5)]]/1000 -> 0 | I3: =Table14[[#This Row],[Number of Properties]]*Table14[[#This Row],[Base Fee ($)]]+(Table14[[#This Row],[Total Assessed Value ($)]]*Table14[[#This Row],[Percent (per $1,000 Assessment) (Example 5.5)]]/1000) -> 0
G4: =Table14[[#This Row],[Total Assessed Value ($)]]*Table14[[#This Row],[Percent (per $1,000 Assessment) (Example 5.5)]]/1000 -> 0 | I4: =Table14[[#This Row],[Number of Properties]]*Table14[[#This Row],[Base Fee ($)]]+(Table14[[#This Row],[Total Assessed Value ($)]]*Table14[[#This Row],[Percent (per $1,000 Assessment) (Example 5.5)]]/1000) -> 0
G5: =Table14[[#This Row],[Total Assessed Value ($)]]*Table14[[#This Row],[Percent (per $1,000 Assessment) (Example 5.5)]]/1000 -> 0 | I5: =Table14[[#This Row],[Number of Properties]]*Table14[[#This Row],[Base Fee ($)]]+(Table14[[#This Row],[Total Assessed Value ($)]]*Table14[[#This Row],[Percent (per $1,000 Assessment) (Example 5.5)]]/1000) -> 0
G6: =Table14[[#This Row],[Total Assessed Value ($)]]*Table14[[#This Row],[Percent (per $1,000 Assessment) (Example 5.5)]]/1000 -> 0 | I6: =Table14[[#This Row],[Number of Properties]]*Table14[[#This Row],[Base Fee ($)]]+(Table14[[#This Row],[Total Assessed Value ($)]]*Table14[[#This Row],[Percent (per $1,000 Assessment) (Example 5.5)]]/1000) -> 0
G7: =Table14[[#This Row],[Total Assessed Value ($)]]*Table14[[#This Row],[Percent (per $1,000 Assessment) (Example 5.5)]]/1000 -> 0 | I7: =Table14[[#This Row],[Number of Properties]]*Table14[[#This Row],[Base Fee ($)]]+(Table14[[#This Row],[Total Assessed Value ($)]]*Table14[[#This Row],[Percent (per $1,000 Assessment) (Example 5.5)]]/1000) -> 0
G8: =Table14[[#This Row],[Total Assessed Value ($)]]*Table14[[#This Row],[Percent (per $1,000 Assessment) (Example 5.5)]]/1000 -> 0 | I8: =Table14[[#This Row],[Number of Properties]]*Table14[[#This Row],[Base Fee ($)]]+(Table14[[#This Row],[Total Assessed Value ($)]]*Table14[[#This Row],[Percent (per $1,000 Assessment) (Example 5.5)]]/1000) -> 0
G9: =Table14[[#This Row],[Total Assessed Value ($)]]*Table14[[#This Row],[Percent (per $1,000 Assessment) (Example 5.5)]]/1000 -> 0 | I9: =Table14[[#This Row],[Number of Properties]]*Table14[[#This Row],[Base Fee ($)]]+(Table14[[#This Row],[Total Assessed Value ($)]]*Table14[[#This Row],[Percent (per $1,000 Assessment) (Example 5.5)]]/1000) -> 0
G10: =Table14[[#This Row],[Total Assessed Value ($)]]*Table14[[#This Row],[Percent (per $1,000 Assessment) (Example 5.5)]]/1000 -> 0 | I10: =Table14[[#This Row],[Number of Properties]]*Table14[[#This Row],[Base Fee ($)]]+(Table14[[#This Row],[Total Assessed Value ($)]]*Table14[[#This Row],[Percent (per $1,000 Assessment) (Example 5.5)]]/1000) -> 0
G11: =Table14[[#This Row],[Total Assessed Value ($)]]*Table14[[#This Row],[Percent (per $1,000 Assessment) (Example 5.5)]]/1000 -> 0 | I11: =Table14[[#This Row],[Number of Properties]]*Table14[[#This Row],[Base Fee ($)]]+(Table14[[#This Row],[Total Assessed Value ($)]]*Table14[[#This Row],[Percent (per $1,000 Assessment) (Example 5.5)]]/1000) -> 0
G12: =Table14[[#This Row],[Total Assessed Value ($)]]*Table14[[#This Row],[Percent (per $1,000 Assessment) (Example 5.5)]]/1000 -> 0 | I12: =Table14[[#This Row],[Number of Properties]]*Table14[[#This Row],[Base Fee ($)]]+(Table14[[#This Row],[Total Assessed Value ($)]]*Table14[[#This Row],[Percent (per $1,000 Assessment) (Example 5.5)]]/1000) -> 0
G13: =Table14[[#This Row],[Total Assessed Value ($)]]*Table14[[#This Row],[Percent (per $1,000 Assessment) (Example 5.5)]]/1000 -> 0 | I13: =Table14[[#This Row],[Number of Properties]]*Table14[[#This Row],[Base Fee ($)]]+(Table14[[#This Row],[Total Assessed Value ($)]]*Table14[[#This Row],[Percent (per $1,000 Assessment) (Example 5.5)]]/1000) -> 0
G14: =Table14[[#This Row],[Total Assessed Value ($)]]*Table14[[#This Row],[Percent (per $1,000 Assessment) (Example 5.5)]]/1000 -> 0 | I14: =Table14[[#This Row],[Number of Properties]]*Table14[[#This Row],[Base Fee ($)]]+(Table14[[#This Row],[Total Assessed Value ($)]]*Table14[[#This Row],[Percent (per $1,000 Assessment) (Example 5.5)]]/1000) -> 0
... G51: =Table14[[#This Row],[Total Assessed Value ($)]]*Table14[[#This Row],[Percent (per $1,000 Assessment) (Example 5.5)]]/1000 -> 0 | I51: =Table14[[#This Row],[Number of Properties]]*Table14[[#This Row],[Base Fee ($)]]+(Table14[[#This Row],[Total Assessed Value ($)]]*Table14[[#This Row],[Percent (per $1,000 Assessment) (Example 5.5)]]/1000) -> 0

Sheet Business Tax
A1: Municipal Revenue Sources | D1: Business Tax (1.3.2)
A2: Revenue Group | B2: Business Revenue Category | C2: Custom Category (if not listed) | D2: Number of Properties | E2: Total Assessed Value ($) | F2: Tax Rate (per $1,000 Assessment) (Example 5.5) | G2: Total Mil Rate Tax ($) | H2: Base Fee ($) | I2: Estimated Revenue ($)
G3: =Table145[[#This Row],[Total Assessed Value ($)]]*Table145[[#This Row],[Tax Rate (per $1,000 Assessment) (Example 5.5)]]/1000 -> 0 | I3: =Table145[[#This Row],[Number of Properties]]*Table145[[#This Row],[Base Fee ($)]]+(Table145[[#This Row],[Total Assessed Value ($)]]*Table145[[#This Row],[Tax Rate (per $1,000 Assessment) (Example 5.5)]]/1000) -> 0
G4: =Table145[[#This Row],[Total Assessed Value ($)]]*Table145[[#This Row],[Tax Rate (per $1,000 Assessment) (Example 5.5)]]/1000 -> 0 | I4: =Table145[[#This Row],[Number of Properties]]*Table145[[#This Row],[Base Fee ($)]]+(Table145[[#This Row],[Total Assessed Value ($)]]*Table145[[#This Row],[Tax Rate (per $1,000 Assessment) (Example 5.5)]]/1000) -> 0
G5: =Table145[[#This Row],[Total Assessed Value ($)]]*Table145[[#This Row],[Tax Rate (per $1,000 Assessment) (Example 5.5)]]/1000 -> 0 | I5: =Table145[[#This Row],[Number of Properties]]*Table145[[#This Row],[Base Fee ($)]]+(Table145[[#This Row],[Total Assessed Value ($)]]*Table145[[#This Row],[Tax Rate (per $1,000 Assessment) (Example 5.5)]]/1000) -> 0
G6: =Table145[[#This Row],[Total Assessed Value ($)]]*Table145[[#This Row],[Tax Rate (per $1,000 Assessment) (Example 5.5)]]/1000 -> 0 | I6: =Table145[[#This Row],[Number of Properties]]*Table145[[#This Row],[Base Fee ($)]]+(Table145[[#This Row],[Total Assessed Value ($)]]*Table145[[#This Row],[Tax Rate (per $1,000 Assessment) (Example 5.5)]]/1000) -> 0
G7: =Table145[[#This Row],[Total Assessed Value ($)]]*Table145[[#This Row],[Tax Rate (per $1,000 Assessment) (Example 5.5)]]/1000 -> 0 | I7: =Table145[[#This Row],[Number of Properties]]*Table145[[#This Row],[Base Fee ($)]]+(Table145[[#This Row],[Total Assessed Value ($)]]*Table145[[#This Row],[Tax Rate (per $1,000 Assessment) (Example 5.5)]]/1000) -> 0
G8: =Table145[[#This Row],[Total Assessed Value ($)]]*Table145[[#This Row],[Tax Rate (per $1,000 Assessment) (Example 5.5)]]/1000 -> 0 | I8: =Table145[[#This Row],[Number of Properties]]*Table145[[#This Row],[Base Fee ($)]]+(Table145[[#This Row],[Total Assessed Value ($)]]*Table145[[#This Row],[Tax Rate (per $1,000 Assessment) (Example 5.5)]]/1000) -> 0
G9: =Table145[[#This Row],[Total Assessed Value ($)]]*Table145[[#This Row],[Tax Rate (per $1,000 Assessment) (Example 5.5)]]/1000 -> 0 | I9: =Table145[[#This Row],[Number of Properties]]*Table145[[#This Row],[Base Fee ($)]]+(Table145[[#This Row],[Total Assessed Value ($)]]*Table145[[#This Row],[Tax Rate (per $1,000 Assessment) (Example 5.5)]]/1000) -> 0
G10: =Table145[[#This Row],[Total Assessed Value ($)]]*Table145[[#This Row],[Tax Rate (per $1,000 Assessment) (Example 5.5)]]/1000 -> 0 | I10: =Table145[[#This Row],[Number of Properties]]*Table145[[#This Row],[Base Fee ($)]]+(Table145[[#This Row],[Total Assessed Value ($)]]*Table145[[#This Row],[Tax Rate (per $1,000 Assessment) (Example 5.5)]]/1000) -> 0
G11: =Table145[[#This Row],[Total Assessed Value ($)]]*Table145[[#This Row],[Tax Rate (per $1,000 Assessment) (Example 5.5)]]/1000 -> 0 | I11: =Table145[[#This Row],[Number of Properties]]*Table145[[#This Row],[Base Fee ($)]]+(Table145[[#This Row],[Total Assessed Value ($)]]*Table145[[#This Row],[Tax Rate (per $1,000 Assessment) (Example 5.5)]]/1000) -> 0
G12: =Table145[[#This Row],[Total Assessed Value ($)]]*Table145[[#This Row],[Tax Rate (per $1,000 Assessment) (Example 5.5)]]/1000 -> 0 | I12: =Table145[[#This Row],[Number of Properties]]*Table145[[#This Row],[Base Fee ($)]]+(Table145[[#This Row],[Total Assessed Value ($)]]*Table145[[#This Row],[Tax Rate (per $1,000 Assessment) (Example 5.5)]]/1000) -> 0
G13: =Table145[[#This Row],[Total Assessed Value ($)]]*Table145[[#This Row],[Tax Rate (per $1,000 Assessment) (Example 5.5)]]/1000 -> 0 | I13: =Table145[[#This Row],[Number of Properties]]*Table145[[#This Row],[Base Fee ($)]]+(Table145[[#This Row],[Total Assessed Value ($)]]*Table145[[#This Row],[Tax Rate (per $1,000 Assessment) (Example 5.5)]]/1000) -> 0
G14: =Table145[[#This Row],[Total Assessed Value ($)]]*Table145[[#This Row],[Tax Rate (per $1,000 Assessment) (Example 5.5)]]/1000 -> 0 | I14: =Table145[[#This Row],[Number of Properties]]*Table145[[#This Row],[Base Fee ($)]]+(Table145[[#This Row],[Total Assessed Value ($)]]*Table145[[#This Row],[Tax Rate (per $1,000 Assessment) (Example 5.5)]]/1000) -> 0
... G53: =Table145[[#This Row],[Total Assessed Value ($)]]*Table145[[#This Row],[Tax Rate (per $1,000 Assessment) (Example 5.5)]]/1000 -> 0 | I53: =Table145[[#This Row],[Number of Properties]]*Table145[[#This Row],[Base Fee ($)]]+(Table145[[#This Row],[Total Assessed Value ($)]]*Table145[[#This Row],[Tax Rate (per $1,000 Assessment) (Example 5.5)]]/1000) -> 0

Sheet  Assessment Levies Fees Charges
A1: Municipal Revenue Sources | D1: Assessments, Levies, Fees and Charges (3.1)
A2: Revenue Group | B2: Revenue Category | C2: Custom Category (if not listed) | D2: Estimated Number of Applications | E2: Fee ($) | F2: Total Base Fee ($) | G2: Estimated Revenue ($)
G3: =Table13[[#This Row],[Estimated Number of Applications]]*Table13[[#This Row],[Fee ($)]] -> 0
G4: =Table13[[#This Row],[Estimated Number of Applications]]*Table13[[#This Row],[Fee ($)]] -> 0
G5: =Table13[[#This Row],[Estimated Number of Applications]]*Table13[[#This Row],[Fee ($)]] -> 0
G6: =Table13[[#This Row],[Estimated Number of Applications]]*Table13[[#This Row],[Fee ($)]] -> 0
G7: =Table13[[#This Row],[Estimated Number of Applications]]*Table13[[#This Row],[Fee ($)]] -> 0
G8: =Table13[[#This Row],[Estimated Number of Applications]]*Table13[[#This Row],[Fee ($)]] -> 0
G9: =Table13[[#This Row],[Estimated Number of Applications]]*Table13[[#This Row],[Fee ($)]] -> 0
G10: =Table13[[#This Row],[Estimated Number of Applications]]*Table13[[#This Row],[Fee ($)]] -> 0
G11: =Table13[[#This Row],[Estimated Number of Applications]]*Table13[[#This Row],[Fee ($)]] -> 0
G12: =Table13[[#This Row],[Estimated Number of Applications]]*Table13[[#This Row],[Fee ($)]] -> 0
G13: =Table13[[#This Row],[Estimated Number of Applications]]*Table13[[#This Row],[Fee ($)]] -> 0
G14: =Table13[[#This Row],[Estimated Number of Applications]]*Table13[[#This Row],[Fee ($)]] -> 0
... G28: =Table13[[#This Row],[Estimated Number of Applications]]*Table13[[#This Row],[Fee ($)]] -> 0

Sheet Expenditure Graphs and Charts
B3: Expenditures
B4: General Government | C4: ='---Budget Form---'!G476
B5: Protective Services | C5: ='---Budget Form---'!G477
B6: Transportation Services | C6: ='---Budget Form---'!G478
B7: Environmental Health | C7: ='---Budget Form---'!G479
B8: Planning and Development | C8: ='---Budget Form---'!G480
B9: Recreation and Culture Services | C9: ='---Budget Form---'!G481
B10: Fiscal Services | C10: ='---Budget Form---'!G482
B14: Revenue
B15: Taxes | C15: ='---Budget Form---'!G487
B16: Sales of Goods and Services | C16: ='---Budget Form---'!G488 -> 0
B17: Other Revenue from Own Sources | C17: ='---Budget Form---'!G489
B18: Government Transfers | C18: ='---Budget Form---'!G490
B19: Other Transfers | C19: ='---Budget Form---'!G491

Sheet Lookup Lists
A1: ResidentialList | B1: BusinessList | D1: CommercialList | E1: FeeList
A2: Percent | B2: Agricultural Operations | D2: Percent | E2: Automated Waste Collection Fee
A3: Base Amount +Percent | B3: Aquaculture Facility | D3: Base Amount +Percent | E3: Accessory Building Permit
A4: Vacant Land: Percent | B4: Auto Dealership | D4: Base Amount (Small Structures) | E4: Arena Rental
A5: Vacant Land: Base Amount + Percent | B5: Auto Repair Garage | D5: Vacant Land: Percent | E5: Building Permit
A6: Residential Property Tax: Supplementary Assessment Percent | B6: Banks and Financial Institutions | D6: Vacant Land: Base Amount + Percent | E6: Change of Occupancy Permit
A7: Residential Property Tax: Supplementary Assessment Base Amount +Percent | B7: Bed and Breakfast | D7: Percent (Farms) | E7: Culvert/Ditch/Drain Permit
A8: Other Residential | B8: Billboards | D8: Supplementary Assessment Percent | E8: Deck/Fence Permit
A9: Single Detached | B9: Bulk Storage and Oil Companies | D9: Supplementary Assessment Base Amount +Percent | E9: Demolition Permit
A10: Semi Detached | B10: Campground | D10: Other Commercial | E10: Development Permit
A11: Duplex | B11: Commercial Wharf | E11: Discretionary Use Application
A12: Triplex | B12: Communications Tower | E12: Dog Licence
A13: Fourplex | B13: Construction | E13: Driveway Permit
A14: Townhouse | B14: Convenience Store | E14: Fence Permit
A15: Condominium | B15: Daycare | E15: Occupancy Permit
A16: Apartment | B16: Fish Plant | E16: Pool Permit
A17: Mobile Home | B17: General Commercial | E17: Renovation Permit
A18: Accessory Dwelling Unit (Suite) | B18: Grocery Store | E18: Sewer Connection
A19: Row House | B19: Heavy Industrial | E19: Sign Permit
A20: Cottage | B20: Home Based | E20: Vendor Licence
A21: Seasonal Residential | B21: Hotel/Motel | E21: Water Connection
A22: Mixed Residential | B22: Hotels and Motels | E22: Water Disconnection
B23: Large Department Stores | E23: Electrical Permit
B24: Light Industrial | E24: Plumbing Permit
B25: Manufacturing | E25: Deck Permit
B26: Marina | E26: Subdivision Application
B27: Mining Operation | E27: Variance Application
B28: Office Building | E28: Taxi Licence
B29: Office Complex | E29: Tax Certificate
B30: Oil & Gas Service Industry | E30: Other Fee
B31: Personal Care Homes
B32: Private Schools
B33: Port Facility
B34: Professional Office
B35: Professional Operations
B36: Quarry
B37: Recreational and Non-profit Facilities
B38: Restaurant
B39: Retail Store
B40: Self Storage
...
